BEGIN:VCALENDAR
VERSION:2.0
PRODID:-//SG DJK/FV Daxlanden 1912 e.V. - ECPv6.14.0//NONSGML v1.0//EN
CALSCALE:GREGORIAN
METHOD:PUBLISH
X-ORIGINAL-URL:https://www.sgdaxlanden.de
X-WR-CALDESC:Veranstaltungen für SG DJK/FV Daxlanden 1912 e.V.
REFRESH-INTERVAL;VALUE=DURATION:PT1H
X-Robots-Tag:noindex
X-PUBLISHED-TTL:PT1H
BEGIN:VTIMEZONE
TZID:UTC
BEGIN:STANDARD
TZOFFSETFROM:+0000
TZOFFSETTO:+0000
TZNAME:UTC
DTSTART:20250101T000000
END:STANDARD
END:VTIMEZONE
BEGIN:VEVENT
DTSTART;VALUE=DATE:20250906
DTEND;VALUE=DATE:20250907
DTSTAMP:20260425T114854
CREATED:20250623T184829Z
LAST-MODIFIED:20250623T184829Z
UID:3854-1757116800-1757203199@www.sgdaxlanden.de
SUMMARY:Altpapiersammlung Daxlanden/Rheinstrandsiedlung/Albsiedlung
DESCRIPTION:
URL:https://www.sgdaxlanden.de/event/altpapiersammlung-daxlanden-rheinstrandsiedlung-albsiedlung
END:VEVENT
END:VCALENDAR