BEGIN:VCALENDAR
VERSION:2.0
PRODID:-//SG DJK/FV Daxlanden 1912 e.V. - ECPv6.14.0//NONSGML v1.0//EN
CALSCALE:GREGORIAN
METHOD:PUBLISH
X-ORIGINAL-URL:https://www.sgdaxlanden.de
X-WR-CALDESC:Veranstaltungen für SG DJK/FV Daxlanden 1912 e.V.
REFRESH-INTERVAL;VALUE=DURATION:PT1H
X-Robots-Tag:noindex
X-PUBLISHED-TTL:PT1H
BEGIN:VTIMEZONE
TZID:UTC
BEGIN:STANDARD
TZOFFSETFROM:+0000
TZOFFSETTO:+0000
TZNAME:UTC
DTSTART:20250101T000000
END:STANDARD
END:VTIMEZONE
BEGIN:VEVENT
DTSTART;VALUE=DATE:20251206
DTEND;VALUE=DATE:20251207
DTSTAMP:20260419T150236
CREATED:20250623T184914Z
LAST-MODIFIED:20250623T184914Z
UID:3856-1764979200-1765065599@www.sgdaxlanden.de
SUMMARY:Altpapiersammlung Daxlanden/Rheinstrandsiedlung/Albsiedlung
DESCRIPTION:
URL:https://www.sgdaxlanden.de/event/altpapiersammlung-daxlanden-rheinstrandsiedlung-albsiedlung-2
END:VEVENT
END:VCALENDAR