BEGIN:VCALENDAR
VERSION:2.0
PRODID:-//SG DJK/FV Daxlanden 1912 e.V. - ECPv6.14.0//NONSGML v1.0//EN
CALSCALE:GREGORIAN
METHOD:PUBLISH
X-ORIGINAL-URL:https://www.sgdaxlanden.de
X-WR-CALDESC:Veranstaltungen für SG DJK/FV Daxlanden 1912 e.V.
REFRESH-INTERVAL;VALUE=DURATION:PT1H
X-Robots-Tag:noindex
X-PUBLISHED-TTL:PT1H
BEGIN:VTIMEZONE
TZID:UTC
BEGIN:STANDARD
TZOFFSETFROM:+0000
TZOFFSETTO:+0000
TZNAME:UTC
DTSTART:20250101T000000
END:STANDARD
END:VTIMEZONE
BEGIN:VEVENT
DTSTART;VALUE=DATE:20250726
DTEND;VALUE=DATE:20250727
DTSTAMP:20260425T131212
CREATED:20250623T184336Z
LAST-MODIFIED:20250623T184336Z
UID:3847-1753488000-1753574399@www.sgdaxlanden.de
SUMMARY:Freundschaftsspiel B-Junioren SG Eintracht Frankfurt - FC Basel 14:00 Uhr
DESCRIPTION:
URL:https://www.sgdaxlanden.de/event/freundschaftsspiel-b-junioren-sg-eintracht-frankfurt-fc-basel-1400-uhr
END:VEVENT
END:VCALENDAR